BEGIN:VCALENDAR
VERSION:2.0
PRODID:-//Remedy Music Tuition - ECPv4.9.8//NONSGML v1.0//EN
CALSCALE:GREGORIAN
METHOD:PUBLISH
X-WR-CALNAME:Remedy Music Tuition
X-ORIGINAL-URL:http://remedymusictuition.com.au
X-WR-CALDESC:Events for Remedy Music Tuition
BEGIN:VTIMEZONE
TZID:Europe/Paris
BEGIN:DAYLIGHT
TZOFFSETFROM:+0100
TZOFFSETTO:+0200
TZNAME:CEST
DTSTART:20180325T010000
END:DAYLIGHT
BEGIN:STANDARD
TZOFFSETFROM:+0200
TZOFFSETTO:+0100
TZNAME:CET
DTSTART:20181028T010000
END:STANDARD
END:VTIMEZONE
BEGIN:VEVENT
DTSTART;TZID="Europe/Paris":20180131T090000
DTEND;TZID="Europe/Paris":20180413T153000
DTSTAMP:20200227T221203
CREATED:20180309T121014Z
LAST-MODIFIED:20180309T121647Z
UID:5924-1517349600-1523597400@remedymusictuition.com.au
SUMMARY:School Term 1
DESCRIPTION:
URL:http://remedymusictuition.com.au/event/school-term-1/
CATEGORIES:Landmark Dates
END:VEVENT
END:VCALENDAR